BEGIN:VCALENDAR
VERSION:2.0
PRODID:-//Eagle Shows | Pennsylvania Gun Shows | Get Tickets Now - ECPv6.15.20//NONSGML v1.0//EN
CALSCALE:GREGORIAN
METHOD:PUBLISH
X-WR-CALNAME:Eagle Shows | Pennsylvania Gun Shows | Get Tickets Now
X-ORIGINAL-URL:https://eagleshows.com
X-WR-CALDESC:Events for Eagle Shows | Pennsylvania Gun Shows | Get Tickets Now
REFRESH-INTERVAL;VALUE=DURATION:PT1H
X-Robots-Tag:noindex
X-PUBLISHED-TTL:PT1H
BEGIN:VTIMEZONE
TZID:America/New_York
BEGIN:DAYLIGHT
TZOFFSETFROM:-0500
TZOFFSETTO:-0400
TZNAME:EDT
DTSTART:20250309T070000
END:DAYLIGHT
BEGIN:STANDARD
TZOFFSETFROM:-0400
TZOFFSETTO:-0500
TZNAME:EST
DTSTART:20251102T060000
END:STANDARD
BEGIN:DAYLIGHT
TZOFFSETFROM:-0500
TZOFFSETTO:-0400
TZNAME:EDT
DTSTART:20260308T070000
END:DAYLIGHT
BEGIN:STANDARD
TZOFFSETFROM:-0400
TZOFFSETTO:-0500
TZNAME:EST
DTSTART:20261101T060000
END:STANDARD
BEGIN:DAYLIGHT
TZOFFSETFROM:-0500
TZOFFSETTO:-0400
TZNAME:EDT
DTSTART:20270314T070000
END:DAYLIGHT
BEGIN:STANDARD
TZOFFSETFROM:-0400
TZOFFSETTO:-0500
TZNAME:EST
DTSTART:20271107T060000
END:STANDARD
END:VTIMEZONE
BEGIN:VEVENT
DTSTART;TZID=America/New_York:20260329T090000
DTEND;TZID=America/New_York:20260329T160000
DTSTAMP:20260420T063927
CREATED:20251121T144110Z
LAST-MODIFIED:20251121T145825Z
UID:53954-1774774800-1774800000@eagleshows.com
SUMMARY:Split Rock Gun Show
DESCRIPTION:
URL:https://eagleshows.com/event/split-rock-gun-show-3-29-26/
LOCATION:Split Rock Resort – Lake Harmony\, 428 Moseywood Road\, Lake Harmony\, PA\, 18624\, United States
CATEGORIES:Split Rock Gun Show
ATTACH;FMTTYPE=image/webp:https://eagleshows.com/wp-content/uploads/2025/11/Split-Rock-PA-Gun-Show-Mar-28-29-2026-1.webp
ORGANIZER;CN="Eagle Shows":MAILTO:info@eagleshows.com
GEO:41.0643961;-75.6154776
X-APPLE-STRUCTURED-LOCATION;VALUE=URI;X-ADDRESS=Split Rock Resort – Lake Harmony 428 Moseywood Road Lake Harmony PA 18624 United States;X-APPLE-RADIUS=500;X-TITLE=428 Moseywood Road:geo:-75.6154776,41.0643961
END:VEVENT
END:VCALENDAR