BEGIN:VCALENDAR
VERSION:2.0
PRODID:-//Eagle Shows | Pennsylvania Gun Shows | Get Tickets Now - ECPv6.15.20//NONSGML v1.0//EN
CALSCALE:GREGORIAN
METHOD:PUBLISH
X-WR-CALNAME:Eagle Shows | Pennsylvania Gun Shows | Get Tickets Now
X-ORIGINAL-URL:https://eagleshows.com
X-WR-CALDESC:Events for Eagle Shows | Pennsylvania Gun Shows | Get Tickets Now
REFRESH-INTERVAL;VALUE=DURATION:PT1H
X-Robots-Tag:noindex
X-PUBLISHED-TTL:PT1H
BEGIN:VTIMEZONE
TZID:America/New_York
BEGIN:DAYLIGHT
TZOFFSETFROM:-0500
TZOFFSETTO:-0400
TZNAME:EDT
DTSTART:20250309T070000
END:DAYLIGHT
BEGIN:STANDARD
TZOFFSETFROM:-0400
TZOFFSETTO:-0500
TZNAME:EST
DTSTART:20251102T060000
END:STANDARD
BEGIN:DAYLIGHT
TZOFFSETFROM:-0500
TZOFFSETTO:-0400
TZNAME:EDT
DTSTART:20260308T070000
END:DAYLIGHT
BEGIN:STANDARD
TZOFFSETFROM:-0400
TZOFFSETTO:-0500
TZNAME:EST
DTSTART:20261101T060000
END:STANDARD
BEGIN:DAYLIGHT
TZOFFSETFROM:-0500
TZOFFSETTO:-0400
TZNAME:EDT
DTSTART:20270314T070000
END:DAYLIGHT
BEGIN:STANDARD
TZOFFSETFROM:-0400
TZOFFSETTO:-0500
TZNAME:EST
DTSTART:20271107T060000
END:STANDARD
END:VTIMEZONE
BEGIN:VEVENT
DTSTART;TZID=America/New_York:20261101T090000
DTEND;TZID=America/New_York:20261101T160000
DTSTAMP:20260421T063941
CREATED:20251231T083554Z
LAST-MODIFIED:20251231T085630Z
UID:58836-1793523600-1793548800@eagleshows.com
SUMMARY:Bloomsburg Gun Show
DESCRIPTION:
URL:https://eagleshows.com/event/bloomsburg-gun-show-11-1-26/
LOCATION:Bloomsburg Fairgrounds\, 620 West 3rd St\, Bloomsburg\, PA\, 17815\, United States
CATEGORIES:Bloomsburg Gun Shows
ATTACH;FMTTYPE=image/webp:https://eagleshows.com/wp-content/uploads/2025/12/Bloomsburg-PA-Gun-Show-October-31-1.png
ORGANIZER;CN="Eagle Shows":MAILTO:info@eagleshows.com
GEO:40.9964253;-76.4665436
X-APPLE-STRUCTURED-LOCATION;VALUE=URI;X-ADDRESS=Bloomsburg Fairgrounds 620 West 3rd St Bloomsburg PA 17815 United States;X-APPLE-RADIUS=500;X-TITLE=620 West 3rd St:geo:-76.4665436,40.9964253
END:VEVENT
END:VCALENDAR